2.438400000000
0.000000000000
0.000000000000
-2.438400000000
540319.102833022713
4706039.564361592755
