2.438400000000
0.000000000000
0.000000000000
-2.438400000000
519652.997890807223
4747558.509708770551
