2.438400000000
0.000000000000
0.000000000000
-2.438400000000
550586.792810451007
4706124.403138980269
