2.438400000000
0.000000000000
0.000000000000
-2.438400000000
417046.603094220452
4720218.770545492880
