2.438400000000
0.000000000000
0.000000000000
-2.438400000000
448173.839383523504
4761559.532077847049
