2.438400000000
0.000000000000
0.000000000000
-2.438400000000
488920.180724272970
4691974.314756091684
