2.438400000000
0.000000000000
0.000000000000
-2.438400000000
416395.189824447734
4664700.460608826950
