2.438400000000
0.000000000000
0.000000000000
-2.438400000000
427177.439540621999
4706223.155041009188
