2.438400000000
0.000000000000
0.000000000000
-2.438400000000
458304.838408225623
4747612.732947575860
