2.438400000000
0.000000000000
0.000000000000
-2.438400000000
447462.095181852230
4664402.467193047516
