2.438400000000
0.000000000000
0.000000000000
-2.438400000000
478686.466312393895
4719760.095269928686
