2.43840000
0.00000000
0.00000000
-2.43840000
257827.38419883
4571073.54556365
