2.43840000
0.00000000
0.00000000
-2.43840000
281351.22010927
4653683.63298847
