2.43840000
0.00000000
0.00000000
-2.43840000
302103.84105514
4653075.32214214
