2.43840000
0.00000000
0.00000000
-2.43840000
301337.78010081
4625317.43971272
