2.43840000
0.00000000
0.00000000
-2.43840000
311753.48217020
4625035.74278923
