2.43840000
0.00000000
0.00000000
-2.43840000
259668.93801232
4626590.14630807
