2.43840000
0.00000000
0.00000000
-2.43840000
322857.66455190
4652528.65515756
