2.43840000
0.00000000
0.00000000
-2.43840000
268763.34385462
4584612.02641344
