2.43840000
0.00000000
0.00000000
-2.43840000
249254.27193864
4626947.46180828
