2.43840000
0.00000000
0.00000000
-2.43840000
260601.19620563
4654350.29683368
