2.43840000
0.00000000
0.00000000
-2.43840000
247808.60364211
4585308.35174309
