2.438400
0.000000
0.000000
-2.438400
257251.309377
4557197.610162
