2.43840000
0.00000000
0.00000000
-2.43840000
246852.60736658
4557550.00066609
