2.43840000
0.00000000
0.00000000
-2.43840000
311394.55158629
4611156.70748448
