2.43840000
0.00000000
0.00000000
-2.43840000
270087.59599642
4626248.94414056
