2.438400000000
0.000000000000
0.000000000000
-2.438400000000
729631.439921675948
4571076.062321077101
