2.438400000000
0.000000000000
0.000000000000
-2.438400000000
740565.229627674096
4557552.492517221719
