2.438400000000
0.000000000000
0.000000000000
-2.438400000000
675898.578323069843
4625039.529956270941
