2.438400000000
0.000000000000
0.000000000000
-2.438400000000
666152.297527824994
4597019.285808075219
