2.438400000000
0.000000000000
0.000000000000
-2.438400000000
728308.694961279049
4612713.677468223497
