2.438400000000
0.000000000000
0.000000000000
-2.438400000000
696680.274549610913
4625775.435937123373
