2.438400000000
0.000000000000
0.000000000000
-2.438400000000
739648.012378282961
4585310.087422097102
