2.438400000000
0.000000000000
0.000000000000
-2.438400000000
728655.348146396806
4598927.913791812025
