2.438400000000
0.000000000000
0.000000000000
-2.438400000000
623604.311771741137
4637805.521471743472
