2.438400000000
0.000000000000
0.000000000000
-2.438400000000
593572.531633486506
4554015.331933518872
