2.438400000000
0.000000000000
0.000000000000
-2.438400000000
582599.974458557204
4595502.171684748493
