2.438400000000
0.000000000000
0.000000000000
-2.438400000000
645195.165334905265
4596595.416176626459
