2.438400000000
0.000000000000
0.000000000000
-2.438400000000
614558.790212945431
4554345.295846559107
