2.438400000000
0.000000000000
0.000000000000
-2.438400000000
623362.944420082960
4651683.687664314173
