2.438400000000
0.000000000000
0.000000000000
-2.438400000000
623844.696787261753
4623926.775167665444
