2.438400000000
0.000000000000
0.000000000000
-2.438400000000
645480.545366981882
4582714.242861005478
