2.438400000000
0.000000000000
0.000000000000
-2.438400000000
655628.712956238422
4596827.873602513224
