2.438400000000
0.000000000000
0.000000000000
-2.438400000000
582280.942629989469
4623256.057646831498
