2.438400000000
0.000000000000
0.000000000000
-2.438400000000
602864.613839666941
4637438.206425653771
