2.438400
0.000000
0.000000
-2.438400
684224.984680
4694722.632514
