2.438400
0.000000
0.000000
-2.438400
673387.425569
4722172.557647
