2.438400
0.000000
0.000000
-2.438400
726326.153040
4668154.163889
