2.438400
0.000000
0.000000
-2.438400
684773.477986
4667063.482414
