2.438400
0.000000
0.000000
-2.438400
684399.794669
4680920.354040
